BEGIN:VCALENDAR
VERSION:2.0
PRODID:-//eventon.com NONSGML v1.0//EN
CALSCALE:GREGORIAN
METHOD:PUBLISH
BEGIN:VEVENT
UID:69e731947193c
DTSTAMP:20260421T081308Z
DTSTART:20251115T070000Z
DTEND:20251115T094500Z
LOCATION:Dojo de l'ACSO 55 Bd Pierre de Coubertin\,  Nogent sur Oise
SUMMARY:Animation circuit Phase 1
DESCRIPTION:Garcon: 8h00 &#8211; 8h45Filles: 10h00 &#8211; 10h45\nhttps://w
 ww.dojo-creillois.com/events/animation-circuit-phase-1/
URL:https://www.dojo-creillois.com/events/animation-circuit-phase-1/
END:VEVENT
END:VCALENDAR