BEGIN:VCALENDAR
VERSION:2.0
PRODID:-//eventon.com NONSGML v1.0//EN
CALSCALE:GREGORIAN
METHOD:PUBLISH
BEGIN:VEVENT
UID:69e845cc36bcd
DTSTAMP:20260422T035140Z
DTSTART:20250426T070000Z
DTEND:20250426T090000Z
LOCATION:Dojo de l'ACSO 55 Bd Pierre de Coubertin\,  Nogent sur Oise
SUMMARY:CHAMPIONNAT REGIONAL HDF CADETS ESPOIRS
DESCRIPTION:Catégories: -46kg\, -50kg\, -55kg\, -60kg\, -66kg\,  -73kg\,  
 -40kg\,  -44kg\,  -48kg\,  -52kg\,  -57kg : 09h00 à 9h45 Catégories: -81k
 g\,  -90kg\,  +90kg\,  -63kg\,  -70kg\,  +70kg :&nbsp;10h30 à 11h00 Les 5 
 premiers (barrage de meilleur 5ème) seront qualifiés aux championnats de 
 France espoirs\nhttps://www.dojo-creillois.com/events/championnat-regional-
 hdf-cadets-espoirs/
URL:https://www.dojo-creillois.com/events/championnat-regional-hdf-cadets-espoirs/
END:VEVENT
END:VCALENDAR