BEGIN:VCALENDAR
VERSION:2.0
PRODID:-//eventon.com NONSGML v1.0//EN
CALSCALE:GREGORIAN
METHOD:PUBLISH
BEGIN:VEVENT
UID:69e82102b7935
DTSTAMP:20260422T011442Z
DTSTART:20250111T070000Z
DTEND:20250111T110000Z
LOCATION:Dojo de l'ACSO 55 Bd Pierre de Coubertin\,  Nogent sur Oise
SUMMARY:Circuit des petits AS
DESCRIPTION:Heures des pesées: 08h00 &#8211; 08h45Fém -36 -40 -44 kgMasc 
 -34 -38 -42 kg 09h15 &#8211; 10h00Fém -48 -52 -57 kgMasc -46 -50 -55 kg 10
 h30 &#8211; 11h15Fém -63 -70 +70 kgMasc -60 -66 -73 +73kg\nhttps://www.doj
 o-creillois.com/events/circuit-des-petits-as/
URL:https://www.dojo-creillois.com/events/circuit-des-petits-as/
END:VEVENT
END:VCALENDAR