BEGIN:VCALENDAR
VERSION:2.0
PRODID:-//eventon.com NONSGML v1.0//EN
CALSCALE:GREGORIAN
METHOD:PUBLISH
BEGIN:VEVENT
UID:69e7173dda1e4
DTSTAMP:20260421T062045Z
DTSTART:20250315T123000Z
DTEND:20250315T150000Z
LOCATION:Dojo de l'ACSO 55 Bd Pierre de Coubertin\,  Nogent sur Oise
SUMMARY:Regroupement Oise
DESCRIPTION:\nhttps://www.dojo-creillois.com/events/regroupement-poussins-2
 /
URL:https://www.dojo-creillois.com/events/regroupement-poussins-2/
END:VEVENT
END:VCALENDAR