BEGIN:VCALENDAR
VERSION:2.0
PRODID:-//eventon.com NONSGML v1.0//EN
CALSCALE:GREGORIAN
METHOD:PUBLISH
BEGIN:VEVENT
UID:69e79c06c4643
DTSTAMP:20260421T154718Z
DTSTART:20240224T073000Z
DTEND:20240224T084500Z
LOCATION:Dojo de l'ACSO 55 Bd Pierre de Coubertin\,  Nogent sur Oise
SUMMARY:Coupe Kyus
DESCRIPTION:Heures des pesées: 08h30 &#8211; 09h00 Ceinture Noires 09h15 &
 #8211; 09h45 Ceinture de Couleur (bleu / marron)\nhttps://www.dojo-creilloi
 s.com/events/coupe-kyus/
URL:https://www.dojo-creillois.com/events/coupe-kyus/
END:VEVENT
END:VCALENDAR