BEGIN:VCALENDAR
VERSION:2.0
PRODID:-//eventon.com NONSGML v1.0//EN
CALSCALE:GREGORIAN
METHOD:PUBLISH
BEGIN:VEVENT
UID:69e810490a7e8
DTSTAMP:20260422T000321Z
DTSTART:20240323T070000Z
DTEND:20240323T100000Z
LOCATION:
SUMMARY:Coupe de France individuel
DESCRIPTION:\nhttps://www.dojo-creillois.com/events/coupe-de-france-individ
 uel/
URL:https://www.dojo-creillois.com/events/coupe-de-france-individuel/
END:VEVENT
END:VCALENDAR