BEGIN:VCALENDAR
VERSION:2.0
PRODID:-//eventon.com NONSGML v1.0//EN
CALSCALE:GREGORIAN
METHOD:PUBLISH
BEGIN:VEVENT
UID:69eb46414a443
DTSTAMP:20260424T103025Z
DTSTART:20240224T093000Z
DTEND:20240224T143000Z
LOCATION:Dojo de l'ACSO 55 Bd Pierre de Coubertin\,  Nogent sur Oise
SUMMARY:Tournoi Benjamins
DESCRIPTION:Heures des pesées: 12h30 &#8211; 13h15Fém -28 -32 -36 -40 kgM
 asc -26 -30 -34 -38 kg 13h30 &#8211; 14h15Fém -44 -48 -52 kgMasc -42 -46 -
 50 kg 14h30 &#8211; 15h00Fém -57 -63 +63 kg 15H00 &#8211; 15H30Masc -55 -6
 0 -66 +66 kg\nhttps://www.dojo-creillois.com/events/tournoi-benjamins-2/
URL:https://www.dojo-creillois.com/events/tournoi-benjamins-2/
END:VEVENT
END:VCALENDAR