BEGIN:VCALENDAR
VERSION:2.0
PRODID:-//eventon.com NONSGML v1.0//EN
CALSCALE:GREGORIAN
METHOD:PUBLISH
BEGIN:VEVENT
UID:69e814888dcf6
DTSTAMP:20260422T002128Z
DTSTART:20230927T163000Z
DTEND:20230927T180000Z
LOCATION:Dojo Creillois 11b Rue Descartes\,  Creil
SUMMARY:Inscription
DESCRIPTION:\nhttps://www.dojo-creillois.com/events/inscription-7/
URL:https://www.dojo-creillois.com/events/inscription-7/
END:VEVENT
END:VCALENDAR