BEGIN:VCALENDAR
VERSION:2.0
PRODID:-//eventon.com NONSGML v1.0//EN
CALSCALE:GREGORIAN
METHOD:PUBLISH
BEGIN:VEVENT
UID:69e7326da0923
DTSTAMP:20260421T081645Z
DTSTART:20230719T173000Z
DTEND:20230719T190000Z
LOCATION:Dojo Creillois 11b Rue Descartes\,  Creil
SUMMARY:Entrainement départemental
DESCRIPTION:\nhttps://www.dojo-creillois.com/events/entrainement-departemen
 tal-2/
URL:https://www.dojo-creillois.com/events/entrainement-departemental-2/
END:VEVENT
END:VCALENDAR