BEGIN:VCALENDAR
VERSION:2.0
PRODID:-//eventon.com NONSGML v1.0//EN
CALSCALE:GREGORIAN
METHOD:PUBLISH
BEGIN:VEVENT
UID:69e73594f38ce
DTSTAMP:20260421T083012Z
DTSTART:20230911T153000Z
DTEND:20230911T190000Z
LOCATION:Dojo Creillois 11b Rue Descartes\,  Creil
SUMMARY:Début des cours
DESCRIPTION:\nhttps://www.dojo-creillois.com/events/debut-des-cours/
URL:https://www.dojo-creillois.com/events/debut-des-cours/
END:VEVENT
END:VCALENDAR