BEGIN:VCALENDAR
VERSION:2.0
PRODID:-//eventon.com NONSGML v1.0//EN
CALSCALE:GREGORIAN
METHOD:PUBLISH
BEGIN:VEVENT
UID:69e733b5e273b
DTSTAMP:20260421T082213Z
DTSTART:20230506T110500Z
DTEND:20230508T110500Z
LOCATION:Dojo Creillois 11b Rue Descartes\,  Creil
SUMMARY:Entrainement André Andermatt
DESCRIPTION:\nhttps://www.dojo-creillois.com/events/entrainement-andre-ande
 rmatt/
URL:https://www.dojo-creillois.com/events/entrainement-andre-andermatt/
END:VEVENT
END:VCALENDAR