BEGIN:VCALENDAR
VERSION:2.0
PRODID:-//eventon.com NONSGML v1.0//EN
CALSCALE:GREGORIAN
METHOD:PUBLISH
BEGIN:VEVENT
UID:69e744478f938
DTSTAMP:20260421T093255Z
DTSTART:20230319T073000Z
DTEND:20230319T093000Z
LOCATION:Complexe Sportif Marcel Cerdan Rue Jean Jaurès\,  Thourotte
SUMMARY:Compétition Amicale
DESCRIPTION:Heures des pesées &#8211; inscriptions: Minimes 08h30 &#8211; 
 09h00 Benjamins 10h00 &#8211; 10h30\nhttps://www.dojo-creillois.com/events/
 competition-amicale/
URL:https://www.dojo-creillois.com/events/competition-amicale/
END:VEVENT
END:VCALENDAR