BEGIN:VCALENDAR
VERSION:2.0
PRODID:-//eventon.com NONSGML v1.0//EN
CALSCALE:GREGORIAN
METHOD:PUBLISH
BEGIN:VEVENT
UID:69e667fbc227c
DTSTAMP:20260420T175259Z
DTSTART:20230211T080000Z
DTEND:20230211T130000Z
LOCATION:Complexe sportif Sportica Boulevard de l'Europe\,  Gravelines
SUMMARY:Championnat Régional
DESCRIPTION:Heures des pesées: 09h00 &#8211; 09h45 Fém -40 -44 -48 -52 kg
  Masc -46 -50 -55 -60 -66 kg 13h00 &#8211; 13h45 Fém -57 -63 -70 +70 kg Ma
 sc -73 -81 -90 +90 kg\nhttps://www.dojo-creillois.com/events/championnat-re
 gional-cadettes/
URL:https://www.dojo-creillois.com/events/championnat-regional-cadettes/
END:VEVENT
END:VCALENDAR