BEGIN:VCALENDAR
VERSION:2.0
PRODID:-//eventon.com NONSGML v1.0//EN
CALSCALE:GREGORIAN
METHOD:PUBLISH
BEGIN:VEVENT
UID:69eaf9255a6dd
DTSTAMP:20260424T050125Z
DTSTART:20231021T061500Z
DTEND:20231021T113000Z
LOCATION:Dojo de l'ACSO 55 Bd Pierre de Coubertin\,  Nogent sur Oise
SUMMARY:Tournoi Individuel Minimes
DESCRIPTION:Heures des pesées: 08h15 &#8211; 09h15Masculins -34 -38 -42 -4
 6 -50 -55 -60 -66 -73 +73kg 12h30 &#8211; 13h15Féminines-36 -40 -44 -48 -5
 2 -57 -63 -70 +70 kg\nhttps://www.dojo-creillois.com/events/regroupement-oi
 se/
URL:https://www.dojo-creillois.com/events/regroupement-oise/
END:VEVENT
END:VCALENDAR